BEGIN:VCALENDAR
VERSION:2.0
PRODID:-//Volleyball Club Mamer - ECPv5.1.4//NONSGML v1.0//EN
CALSCALE:GREGORIAN
METHOD:PUBLISH
X-WR-CALNAME:Volleyball Club Mamer
X-ORIGINAL-URL:https://www.vcmamer.lu
X-WR-CALDESC:Veranstaltungen für Volleyball Club Mamer
BEGIN:VTIMEZONE
TZID:Europe/Luxembourg
BEGIN:DAYLIGHT
TZOFFSETFROM:+0100
TZOFFSETTO:+0200
TZNAME:CEST
DTSTART:20200329T010000
END:DAYLIGHT
BEGIN:STANDARD
TZOFFSETFROM:+0200
TZOFFSETTO:+0100
TZNAME:CET
DTSTART:20201025T010000
END:STANDARD
END:VTIMEZONE
BEGIN:VEVENT
DTSTART;TZID=Europe/Luxembourg:20201017T163000
DTEND;TZID=Europe/Luxembourg:20201017T183000
DTSTAMP:20211006T191622
CREATED:20201006T051855Z
LAST-MODIFIED:20201006T051855Z
UID:1013-1602952200-1602959400@www.vcmamer.lu
SUMMARY:Division 1 Dames (158)
DESCRIPTION:VC Mamer 2 – VC Steinfort 2 \n
URL:https://www.vcmamer.lu/index.php/event/division-1-dames-158/
END:VEVENT
END:VCALENDAR