BEGIN:VCALENDAR
VERSION:2.0
PRODID:-//Volleyball Club Mamer - ECPv5.1.4//NONSGML v1.0//EN
CALSCALE:GREGORIAN
METHOD:PUBLISH
X-WR-CALNAME:Volleyball Club Mamer
X-ORIGINAL-URL:https://www.vcmamer.lu
X-WR-CALDESC:Veranstaltungen für Volleyball Club Mamer
BEGIN:VTIMEZONE
TZID:Europe/Luxembourg
BEGIN:DAYLIGHT
TZOFFSETFROM:+0100
TZOFFSETTO:+0200
TZNAME:CEST
DTSTART:20210328T010000
END:DAYLIGHT
BEGIN:STANDARD
TZOFFSETFROM:+0200
TZOFFSETTO:+0100
TZNAME:CET
DTSTART:20211031T010000
END:STANDARD
END:VTIMEZONE
BEGIN:VEVENT
DTSTART;TZID=Europe/Luxembourg:20210313T193000
DTEND;TZID=Europe/Luxembourg:20210313T213000
DTSTAMP:20210722T004355
CREATED:20210228T170003Z
LAST-MODIFIED:20210228T170003Z
UID:1140-1615663800-1615671000@www.vcmamer.lu
SUMMARY:Novotel Ligue Dames  (73)
DESCRIPTION:CHEV Diekirch – VC Mamer \n
URL:https://www.vcmamer.lu/index.php/event/novotel-ligue-dames-73/
CATEGORIES:Championnat
END:VEVENT
END:VCALENDAR