BEGIN:VCALENDAR
VERSION:2.0
PRODID:-//Volleyball Club Mamer - ECPv5.1.4//NONSGML v1.0//EN
CALSCALE:GREGORIAN
METHOD:PUBLISH
X-WR-CALNAME:Volleyball Club Mamer
X-ORIGINAL-URL:https://www.vcmamer.lu
X-WR-CALDESC:Veranstaltungen für Volleyball Club Mamer
BEGIN:VTIMEZONE
TZID:Europe/Luxembourg
BEGIN:DAYLIGHT
TZOFFSETFROM:+0100
TZOFFSETTO:+0200
TZNAME:CEST
DTSTART:20210328T010000
END:DAYLIGHT
BEGIN:STANDARD
TZOFFSETFROM:+0200
TZOFFSETTO:+0100
TZNAME:CET
DTSTART:20211031T010000
END:STANDARD
END:VTIMEZONE
BEGIN:VEVENT
DTSTART;TZID=Europe/Luxembourg:20210320T190000
DTEND;TZID=Europe/Luxembourg:20210320T210000
DTSTAMP:20210722T004412
CREATED:20210228T170133Z
LAST-MODIFIED:20210228T170133Z
UID:1142-1616266800-1616274000@www.vcmamer.lu
SUMMARY:Novotel Ligue Dames (76)
DESCRIPTION:VC Mamer – VC Fentange \n
URL:https://www.vcmamer.lu/index.php/event/novotel-ligue-dames-76/
CATEGORIES:Championnat
END:VEVENT
END:VCALENDAR