BEGIN:VCALENDAR
VERSION:2.0
PRODID:-//Volleyball Club Mamer - ECPv5.1.4//NONSGML v1.0//EN
CALSCALE:GREGORIAN
METHOD:PUBLISH
X-WR-CALNAME:Volleyball Club Mamer
X-ORIGINAL-URL:https://www.vcmamer.lu
X-WR-CALDESC:Veranstaltungen für Volleyball Club Mamer
BEGIN:VTIMEZONE
TZID:Europe/Luxembourg
BEGIN:DAYLIGHT
TZOFFSETFROM:+0100
TZOFFSETTO:+0200
TZNAME:CEST
DTSTART:20200329T010000
END:DAYLIGHT
BEGIN:STANDARD
TZOFFSETFROM:+0200
TZOFFSETTO:+0100
TZNAME:CET
DTSTART:20201025T010000
END:STANDARD
END:VTIMEZONE
BEGIN:VEVENT
DTSTART;TZID=Europe/Luxembourg:20201025T110000
DTEND;TZID=Europe/Luxembourg:20201025T130000
DTSTAMP:20211006T191646
CREATED:20201006T052412Z
LAST-MODIFIED:20201006T052412Z
UID:1020-1603623600-1603630800@www.vcmamer.lu
SUMMARY:Tournoi 1 Minimes (T1)
DESCRIPTION:@ Hesperange \n
URL:https://www.vcmamer.lu/index.php/event/tournoi-1-minimes-t1/
END:VEVENT
END:VCALENDAR