BEGIN:VCALENDAR
VERSION:2.0
PRODID:-//Volleyball Club Mamer - ECPv5.1.4//NONSGML v1.0//EN
CALSCALE:GREGORIAN
METHOD:PUBLISH
X-WR-CALNAME:Volleyball Club Mamer
X-ORIGINAL-URL:https://www.vcmamer.lu
X-WR-CALDESC:Veranstaltungen für Volleyball Club Mamer
BEGIN:VTIMEZONE
TZID:Europe/Luxembourg
BEGIN:DAYLIGHT
TZOFFSETFROM:+0100
TZOFFSETTO:+0200
TZNAME:CEST
DTSTART:20200329T010000
END:DAYLIGHT
BEGIN:STANDARD
TZOFFSETFROM:+0200
TZOFFSETTO:+0100
TZNAME:CET
DTSTART:20201025T010000
END:STANDARD
END:VTIMEZONE
BEGIN:VEVENT
DTSTART;TZID=Europe/Luxembourg:20201107T140000
DTEND;TZID=Europe/Luxembourg:20201108T190000
DTSTAMP:20210722T004213
CREATED:20201006T102952Z
LAST-MODIFIED:20201006T102952Z
UID:1026-1604757600-1604862000@www.vcmamer.lu
SUMMARY:Weekend de coupe 1/8 (Luxembourg; FLVB)
DESCRIPTION:Dames 1 (CDL) \nVC Lorentzweiler (D1D) – VC Mamer (NLD) \nDames 2 (FLVB) \nEscher VBC (DeD) – VC Mamer (D1D) \nCadettes (CDL) \nVC Mamer – Escher VBC \n
URL:https://www.vcmamer.lu/index.php/event/weekend-de-coupe-1-8-luxembourg-flvb/
END:VEVENT
END:VCALENDAR