BEGIN:VCALENDAR
VERSION:2.0
PRODID:-//Volleyball Club Mamer - ECPv4.9.13//NONSGML v1.0//EN
CALSCALE:GREGORIAN
METHOD:PUBLISH
X-WR-CALNAME:Volleyball Club Mamer
X-ORIGINAL-URL:https://www.vcmamer.lu
X-WR-CALDESC:Events for Volleyball Club Mamer
BEGIN:VTIMEZONE
TZID:Europe/Luxembourg
BEGIN:DAYLIGHT
TZOFFSETFROM:+0100
TZOFFSETTO:+0200
TZNAME:CEST
DTSTART:20190331T010000
END:DAYLIGHT
BEGIN:STANDARD
TZOFFSETFROM:+0200
TZOFFSETTO:+0100
TZNAME:CET
DTSTART:20191027T010000
END:STANDARD
END:VTIMEZONE
BEGIN:VEVENT
DTSTART;TZID=Europe/Luxembourg:20191130T140000
DTEND;TZID=Europe/Luxembourg:20191130T160000
DTSTAMP:20200122T191445
CREATED:20190824T210122Z
LAST-MODIFIED:20190824T210122Z
UID:675-1575122400-1575129600@www.vcmamer.lu
SUMMARY:Cadettes (A459)
DESCRIPTION:VC Fentange vs. VC Mamer \n
URL:https://www.vcmamer.lu/index.php/event/cadettes-a459/
END:VEVENT
BEGIN:VEVENT
DTSTART;TZID=Europe/Luxembourg:20191130T183000
DTEND;TZID=Europe/Luxembourg:20191130T203000
DTSTAMP:20200122T191445
CREATED:20190824T210234Z
LAST-MODIFIED:20190824T210234Z
UID:677-1575138600-1575145800@www.vcmamer.lu
SUMMARY:Division 2 Dames (263)
DESCRIPTION:VC Belair 2 vs. VC Mamer 2 \n
URL:https://www.vcmamer.lu/index.php/event/division-2-dames-263/
END:VEVENT
BEGIN:VEVENT
DTSTART;TZID=Europe/Luxembourg:20191130T193000
DTEND;TZID=Europe/Luxembourg:20191130T213000
DTSTAMP:20200122T191445
CREATED:20190824T210338Z
LAST-MODIFIED:20190824T210338Z
UID:679-1575142200-1575149400@www.vcmamer.lu
SUMMARY:NOVOTEL-Ligue Dames (53R)
DESCRIPTION:VC Mamer vs. CS GYM Volley \n
URL:https://www.vcmamer.lu/index.php/event/novotel-ligue-dames-53r/
END:VEVENT
END:VCALENDAR