BEGIN:VCALENDAR
VERSION:2.0
PRODID:-//Volleyball Club Mamer - ECPv4.9.13//NONSGML v1.0//EN
CALSCALE:GREGORIAN
METHOD:PUBLISH
X-WR-CALNAME:Volleyball Club Mamer
X-ORIGINAL-URL:https://www.vcmamer.lu
X-WR-CALDESC:Events for Volleyball Club Mamer
BEGIN:VTIMEZONE
TZID:Europe/Luxembourg
BEGIN:DAYLIGHT
TZOFFSETFROM:+0100
TZOFFSETTO:+0200
TZNAME:CEST
DTSTART:20190331T010000
END:DAYLIGHT
BEGIN:STANDARD
TZOFFSETFROM:+0200
TZOFFSETTO:+0100
TZNAME:CET
DTSTART:20191027T010000
END:STANDARD
END:VTIMEZONE
BEGIN:VEVENT
DTSTART;TZID=Europe/Luxembourg:20191214T140000
DTEND;TZID=Europe/Luxembourg:20191214T160000
DTSTAMP:20200122T191518
CREATED:20190824T211824Z
LAST-MODIFIED:20190824T211824Z
UID:685-1576332000-1576339200@www.vcmamer.lu
SUMMARY:Division 2 Dames (267)
DESCRIPTION:VC Mamer vs. RSR Walfer 2 \n
URL:https://www.vcmamer.lu/index.php/event/division-2-dames-267/
END:VEVENT
BEGIN:VEVENT
DTSTART;TZID=Europe/Luxembourg:20191214T160000
DTEND;TZID=Europe/Luxembourg:20191214T180000
DTSTAMP:20200122T191518
CREATED:20190824T211931Z
LAST-MODIFIED:20190824T211931Z
UID:687-1576339200-1576346400@www.vcmamer.lu
SUMMARY:Cadettes (A462)
DESCRIPTION:VC Mamer vs. VB Echternach \n
URL:https://www.vcmamer.lu/index.php/event/cadettes-a462/
END:VEVENT
BEGIN:VEVENT
DTSTART;TZID=Europe/Luxembourg:20191214T203000
DTEND;TZID=Europe/Luxembourg:20191214T223000
DTSTAMP:20200122T191518
CREATED:20190824T212031Z
LAST-MODIFIED:20190824T212031Z
UID:689-1576355400-1576362600@www.vcmamer.lu
SUMMARY:NOVOTEL-Ligue Dames (59R)
DESCRIPTION:VC Mamer vs. RSR Walfer \n
URL:https://www.vcmamer.lu/index.php/event/novotel-ligue-dames-59r/
END:VEVENT
END:VCALENDAR